BEGIN:VCALENDAR
VERSION:2.0
PRODID:icalendar-ruby
CALSCALE:GREGORIAN
METHOD:PUBLISH
BEGIN:VEVENT
DTSTAMP:20260422T224316Z
UID:83-2793330@thecornerstonegan.ca
DTSTART:20261014T170000Z
DTEND:20261014T190000Z
CLASS:PUBLIC
CREATED:20260422T181845
DESCRIPTION:Join us as we look into God's Word.
LAST-MODIFIED:20260422T181845
LOCATION:The Cornerstone
SUMMARY:Wednesday Bible Study with Heather
URL;VALUE=URI:https://www.thecornerstonegan.ca/events/wednesday-bible-study
 -with-heather/2026-10-14
ATTACH;FILENAME=Bible Study.jpg;FMTTYPE=image/jpeg:https://dq5pwpg1q8ru0.cl
 oudfront.net/2026/04/06/14/52/45/863aa6e3-b3cc-40ff-9ed4-721dbf1feb15/Bibl
 e%20Study.jpg
END:VEVENT
END:VCALENDAR
