BEGIN:VCALENDAR
VERSION:2.0
PRODID:icalendar-ruby
CALSCALE:GREGORIAN
METHOD:PUBLISH
BEGIN:VEVENT
DTSTAMP:20260425T113418Z
UID:41-2818756@thecornerstonegan.ca
DTSTART:20250104T000000Z
DTEND:20250104T020000Z
CLASS:PUBLIC
CREATED:20260425T063704
DESCRIPTION:Come Fridays from 7-9 PM for games\, food\, friends\, and real 
 conversations about faith and life.  It's a place to belong\, have fun\, 
 and grow together.\nFollow youth.gan on Instagram to stay in the loop abou
 t upcoming events and schedule changes.
LAST-MODIFIED:20260425T063704
LOCATION:The Cornerstone
SUMMARY:The Cornerstone Youth
URL;VALUE=URI:https://www.thecornerstonegan.ca/events/the-cornerstone-youth
 /2025-01-03
ATTACH;FILENAME=main_intyouthday_1900px.jpg;FMTTYPE=image/jpeg:https://dq5p
 wpg1q8ru0.cloudfront.net/2023/01/16/08/40/22/c644a555-46da-41a6-853b-3fc4f
 73fc4bc/main_intyouthday_1900px.jpg
END:VEVENT
END:VCALENDAR
