BEGIN:VCALENDAR
VERSION:2.0
PRODID:icalendar-ruby
CALSCALE:GREGORIAN
METHOD:PUBLISH
BEGIN:VEVENT
DTSTAMP:20260422T224204Z
UID:33-2792592@thecornerstonegan.ca
DTSTART:20261013T230000Z
DTEND:20261014T000000Z
CLASS:PUBLIC
CREATED:20260422T181842
DESCRIPTION:Pop in and enjoy a coffee with us.
LAST-MODIFIED:20260422T181842
LOCATION:McDonalds Gananoque
SUMMARY:Men's Coffee
URL;VALUE=URI:https://www.thecornerstonegan.ca/events/mens-coffee/2026-10-1
 3
ATTACH;FILENAME=mcdonalds-coffee-cup.jpg;FMTTYPE=image/jpeg:https://dq5pwpg
 1q8ru0.cloudfront.net/2022/11/21/08/32/11/318f15ec-84c9-4235-83e8-1294a692
 7419/mcdonalds-coffee-cup.jpg
END:VEVENT
END:VCALENDAR
