BEGIN:VCALENDAR
VERSION:2.0
PRODID:icalendar-ruby
CALSCALE:GREGORIAN
METHOD:PUBLISH
BEGIN:VEVENT
DTSTAMP:20260425T115351Z
UID:33-2818134@thecornerstonegan.ca
DTSTART:20240702T230000Z
DTEND:20240703T000000Z
CLASS:PUBLIC
CREATED:20260425T063702
DESCRIPTION:Pop in and enjoy a coffee with us.
LAST-MODIFIED:20260425T063702
LOCATION:McDonalds Gananoque
SUMMARY:Men's Coffee
URL;VALUE=URI:https://www.thecornerstonegan.ca/events/mens-coffee/2024-07-0
 2
ATTACH;FILENAME=mcdonalds-coffee-cup.jpg;FMTTYPE=image/jpeg:https://dq5pwpg
 1q8ru0.cloudfront.net/2022/11/21/08/32/11/318f15ec-84c9-4235-83e8-1294a692
 7419/mcdonalds-coffee-cup.jpg
END:VEVENT
END:VCALENDAR
