BEGIN:VCALENDAR
VERSION:2.0
PRODID:icalendar-ruby
CALSCALE:GREGORIAN
METHOD:PUBLISH
BEGIN:VEVENT
DTSTAMP:20260422T005618Z
UID:33-2783290@thecornerstonegan.ca
DTSTART:20231213T000000Z
DTEND:20231213T010000Z
CLASS:PUBLIC
CREATED:20260421T194230
DESCRIPTION:Pop in and enjoy a coffee with us.
LAST-MODIFIED:20260421T194230
LOCATION:McDonalds Gananoque
SUMMARY:Men's Coffee
URL;VALUE=URI:https://www.thecornerstonegan.ca/events/mens-coffee/2023-12-1
 2
ATTACH;FILENAME=mcdonalds-coffee-cup.jpg;FMTTYPE=image/jpeg:https://dq5pwpg
 1q8ru0.cloudfront.net/2022/11/21/08/32/11/318f15ec-84c9-4235-83e8-1294a692
 7419/mcdonalds-coffee-cup.jpg
END:VEVENT
END:VCALENDAR
